BEGIN:VCALENDAR
VERSION:2.0
PRODID:-//Armenian Church of Our Saviour Worcester, MA - ECPv6.15.20//NONSGML v1.0//EN
CALSCALE:GREGORIAN
METHOD:PUBLISH
X-WR-CALNAME:Armenian Church of Our Saviour Worcester, MA
X-ORIGINAL-URL:https://acoos.org
X-WR-CALDESC:Events for Armenian Church of Our Saviour Worcester, MA
REFRESH-INTERVAL;VALUE=DURATION:PT1H
X-Robots-Tag:noindex
X-PUBLISHED-TTL:PT1H
BEGIN:VTIMEZONE
TZID:America/New_York
BEGIN:DAYLIGHT
TZOFFSETFROM:-0500
TZOFFSETTO:-0400
TZNAME:EDT
DTSTART:20250309T070000
END:DAYLIGHT
BEGIN:STANDARD
TZOFFSETFROM:-0400
TZOFFSETTO:-0500
TZNAME:EST
DTSTART:20251102T060000
END:STANDARD
BEGIN:DAYLIGHT
TZOFFSETFROM:-0500
TZOFFSETTO:-0400
TZNAME:EDT
DTSTART:20260308T070000
END:DAYLIGHT
BEGIN:STANDARD
TZOFFSETFROM:-0400
TZOFFSETTO:-0500
TZNAME:EST
DTSTART:20261101T060000
END:STANDARD
BEGIN:DAYLIGHT
TZOFFSETFROM:-0500
TZOFFSETTO:-0400
TZNAME:EDT
DTSTART:20270314T070000
END:DAYLIGHT
BEGIN:STANDARD
TZOFFSETFROM:-0400
TZOFFSETTO:-0500
TZNAME:EST
DTSTART:20271107T060000
END:STANDARD
END:VTIMEZONE
BEGIN:VEVENT
DTSTART;TZID=America/New_York:20260301T114500
DTEND;TZID=America/New_York:20260301T140000
DTSTAMP:20260424T113218
CREATED:20260210T130126Z
LAST-MODIFIED:20260210T130132Z
UID:2586-1772365500-1772373600@acoos.org
SUMMARY:KINGDOM OF CILICIA. PRESENTATION
DESCRIPTION:
URL:https://acoos.org/event/kingdom-of-cilicia-presentation/
END:VEVENT
BEGIN:VEVENT
DTSTART;TZID=America/New_York:20260309T190000
DTEND;TZID=America/New_York:20260309T203000
DTSTAMP:20260424T113218
CREATED:20260305T154519Z
LAST-MODIFIED:20260305T154529Z
UID:2604-1773082800-1773088200@acoos.org
SUMMARY:Bible Study
DESCRIPTION:
URL:https://acoos.org/event/bible-study-3/
ATTACH;FMTTYPE=image/png:https://acoos.org/wp-content/uploads/2026/02/bible-study-miracles.png
END:VEVENT
BEGIN:VEVENT
DTSTART;TZID=America/New_York:20260321T100000
DTEND;TZID=America/New_York:20260321T150000
DTSTAMP:20260424T113218
CREATED:20260305T154802Z
LAST-MODIFIED:20260305T154809Z
UID:2606-1774087200-1774105200@acoos.org
SUMMARY:Parish Retreat
DESCRIPTION:
URL:https://acoos.org/event/parish-retreat/
ATTACH;FMTTYPE=image/png:https://acoos.org/wp-content/uploads/2026/03/Brown-And-Beige-Minimalist-Peaceful-Prayer-Retreat-Instagram-Post.png
END:VEVENT
BEGIN:VEVENT
DTSTART;TZID=America/New_York:20260324T190000
DTEND;TZID=America/New_York:20260324T203000
DTSTAMP:20260424T113218
CREATED:20260314T124232Z
LAST-MODIFIED:20260314T124239Z
UID:2616-1774378800-1774384200@acoos.org
SUMMARY:Bible Study
DESCRIPTION:Bible StudyMiracles of Christ \n\n\n\nMONDAY\, MARCH 247:00 PM \n\n\n\nChurch hallAll are welcome \n\n\n\nWe invite you to join our upcoming Faith Discussion and Bible Study\, where we’ll dive deeper into Scripture and explore how to grow in our faith together. We will be studying the miracles of Christ for the next 6 months.  \n\n\n\nDuring our time together\, we’ll engage in meaningful conversations\, reflect on God’s word\, and discover practical ways to live out our faith in today’s world. Let’s encourage one another and build a supportive community grounded in God’s love and grace. \n\n\n\nCome with an open heart\, your Bible\, and a desire to grow. We look forward to learning and sharing with you!
URL:https://acoos.org/event/bible-study-4/
ATTACH;FMTTYPE=image/png:https://acoos.org/wp-content/uploads/2026/02/bible-study-miracles.png
END:VEVENT
BEGIN:VEVENT
DTSTART;TZID=America/New_York:20260329T100000
DTEND;TZID=America/New_York:20260329T140000
DTSTAMP:20260424T113218
CREATED:20260307T203650Z
LAST-MODIFIED:20260307T203655Z
UID:2609-1774778400-1774792800@acoos.org
SUMMARY:PALM SUNDAY
DESCRIPTION:
URL:https://acoos.org/event/palm-sunday/
ATTACH;FMTTYPE=image/png:https://acoos.org/wp-content/uploads/2026/03/palm-sunday-2026-.png
END:VEVENT
BEGIN:VEVENT
DTSTART;TZID=America/New_York:20260331T190000
DTEND;TZID=America/New_York:20260331T203000
DTSTAMP:20260424T113218
CREATED:20260331T010716Z
LAST-MODIFIED:20260331T010728Z
UID:2634-1774983600-1774989000@acoos.org
SUMMARY:Bible StudyMiracles of Christ
DESCRIPTION:Bible StudyMiracles of Christ \n\n\n\nTUESDAY\, MARCH 317:00 PM \n\n\n\nChurch hallAll are welcome \n\n\n\nWe invite you to join our upcoming Faith Discussion and Bible Study\, where we’ll dive deeper into Scripture and explore how to grow in our faith together. We will be studying the miracles of Christ for the next 6 months.  \n\n\n\nDuring our time together\, we’ll engage in meaningful conversations\, reflect on God’s word\, and discover practical ways to live out our faith in today’s world. Let’s encourage one another and build a supportive community grounded in God’s love and grace. \n\n\n\nCome with an open heart\, your Bible\, and a desire to grow. We look forward to learning and sharing with you!
URL:https://acoos.org/event/bible-studymiracles-of-christ/
ATTACH;FMTTYPE=image/png:https://acoos.org/wp-content/uploads/2026/02/bible-study-miracles.png
END:VEVENT
END:VCALENDAR