BEGIN:VCALENDAR
VERSION:2.0
PRODID:-//Armenian Church of Our Saviour Worcester, MA - ECPv6.15.20//NONSGML v1.0//EN
CALSCALE:GREGORIAN
METHOD:PUBLISH
X-ORIGINAL-URL:https://acoos.org
X-WR-CALDESC:Events for Armenian Church of Our Saviour Worcester, MA
REFRESH-INTERVAL;VALUE=DURATION:PT1H
X-Robots-Tag:noindex
X-PUBLISHED-TTL:PT1H
BEGIN:VTIMEZONE
TZID:America/New_York
BEGIN:DAYLIGHT
TZOFFSETFROM:-0500
TZOFFSETTO:-0400
TZNAME:EDT
DTSTART:20240310T070000
END:DAYLIGHT
BEGIN:STANDARD
TZOFFSETFROM:-0400
TZOFFSETTO:-0500
TZNAME:EST
DTSTART:20241103T060000
END:STANDARD
BEGIN:DAYLIGHT
TZOFFSETFROM:-0500
TZOFFSETTO:-0400
TZNAME:EDT
DTSTART:20250309T070000
END:DAYLIGHT
BEGIN:STANDARD
TZOFFSETFROM:-0400
TZOFFSETTO:-0500
TZNAME:EST
DTSTART:20251102T060000
END:STANDARD
BEGIN:DAYLIGHT
TZOFFSETFROM:-0500
TZOFFSETTO:-0400
TZNAME:EDT
DTSTART:20260308T070000
END:DAYLIGHT
BEGIN:STANDARD
TZOFFSETFROM:-0400
TZOFFSETTO:-0500
TZNAME:EST
DTSTART:20261101T060000
END:STANDARD
END:VTIMEZONE
BEGIN:VEVENT
DTSTART;TZID=America/New_York:20251101T173000
DTEND;TZID=America/New_York:20251101T210000
DTSTAMP:20260424T185010
CREATED:20250912T184655Z
LAST-MODIFIED:20251013T014214Z
UID:2368-1762018200-1762030800@acoos.org
SUMMARY:ARMENIAN EVENING WITH ARA DINKJIAN
DESCRIPTION:PURCHASE TICKETS\n\n\n\n\n\n\n\n\nARMENIAN EVENING WITH\n\n\n\nARA DINKJIAN\n\n\n\nNovember 1\, 5:30 pmCultural Center \n\n\n\nCelebration of Armenian culture with music\, food & wine \n\n\n\nSolo Oud Recitalkebab dinnerArmenian wine available for sale \n\n\n\nTickets – $60 per personChildren under 12 free$25 studentsPlease register and purchase your tickets online belowOr you may mail a check to the Church office
URL:https://acoos.org/event/armenian-evening-with-ara-dinkjian/
ATTACH;FMTTYPE=image/png:https://acoos.org/wp-content/uploads/2025/09/Ara-Dinkjian-flyer-.png
END:VEVENT
BEGIN:VEVENT
DTSTART;TZID=America/New_York:20251110T180000
DTEND;TZID=America/New_York:20251110T190000
DTSTAMP:20260424T185010
CREATED:20251101T205541Z
LAST-MODIFIED:20251101T205552Z
UID:2457-1762797600-1762801200@acoos.org
SUMMARY:MEN'S TAVLOO SOCIAL
DESCRIPTION:
URL:https://acoos.org/event/mens-tavloo-social/
ATTACH;FMTTYPE=image/png:https://acoos.org/wp-content/uploads/2025/11/Beige-and-Brown-Illustrated-Family-Game-Night-Poster.png
END:VEVENT
BEGIN:VEVENT
DTSTART;TZID=America/New_York:20251117T180000
DTEND;TZID=America/New_York:20251117T200000
DTSTAMP:20260424T185010
CREATED:20251113T141330Z
LAST-MODIFIED:20251113T141336Z
UID:2468-1763402400-1763409600@acoos.org
SUMMARY:KHEYMA DINNER
DESCRIPTION:
URL:https://acoos.org/event/kheyma-dinner/
ATTACH;FMTTYPE=image/png:https://acoos.org/wp-content/uploads/2025/11/Yellow-Blue-Minimalist-Hotel-Promotion-Flyer-2.png
END:VEVENT
BEGIN:VEVENT
DTSTART;TZID=America/New_York:20251130T100000
DTEND;TZID=America/New_York:20251130T140000
DTSTAMP:20260424T185010
CREATED:20251118T144414Z
LAST-MODIFIED:20251118T144423Z
UID:2472-1764496800-1764511200@acoos.org
SUMMARY:SCHOLARSHIP AWARDS SUNDAY
DESCRIPTION:SCHOLARSHIP AWARDS SUNDAY \n\n\n\nSUNDAY\, NOVEMBER 30 \n\n\n\nOn Sunday\, November 30th we will host our Annual Scholarship Sunday!We are excited to award 9 of our beloved students this year. These scholarships have been made possible by the generous benefactors of the following Memorial Endowment Funds.Come join us with your families for worship followed by a special fellowship afterwards.
URL:https://acoos.org/event/scholarship-awards-sunday/
ATTACH;FMTTYPE=image/png:https://acoos.org/wp-content/uploads/2025/11/white-Scholarship-program-Flyer-2.png
END:VEVENT
END:VCALENDAR