BEGIN:VCALENDAR
VERSION:2.0
PRODID:-//Armenian Church of Our Saviour Worcester, MA - ECPv6.15.20//NONSGML v1.0//EN
CALSCALE:GREGORIAN
METHOD:PUBLISH
X-WR-CALNAME:Armenian Church of Our Saviour Worcester, MA
X-ORIGINAL-URL:https://acoos.org
X-WR-CALDESC:Events for Armenian Church of Our Saviour Worcester, MA
REFRESH-INTERVAL;VALUE=DURATION:PT1H
X-Robots-Tag:noindex
X-PUBLISHED-TTL:PT1H
BEGIN:VTIMEZONE
TZID:America/New_York
BEGIN:DAYLIGHT
TZOFFSETFROM:-0500
TZOFFSETTO:-0400
TZNAME:EDT
DTSTART:20240310T070000
END:DAYLIGHT
BEGIN:STANDARD
TZOFFSETFROM:-0400
TZOFFSETTO:-0500
TZNAME:EST
DTSTART:20241103T060000
END:STANDARD
BEGIN:DAYLIGHT
TZOFFSETFROM:-0500
TZOFFSETTO:-0400
TZNAME:EDT
DTSTART:20250309T070000
END:DAYLIGHT
BEGIN:STANDARD
TZOFFSETFROM:-0400
TZOFFSETTO:-0500
TZNAME:EST
DTSTART:20251102T060000
END:STANDARD
BEGIN:DAYLIGHT
TZOFFSETFROM:-0500
TZOFFSETTO:-0400
TZNAME:EDT
DTSTART:20260308T070000
END:DAYLIGHT
BEGIN:STANDARD
TZOFFSETFROM:-0400
TZOFFSETTO:-0500
TZNAME:EST
DTSTART:20261101T060000
END:STANDARD
BEGIN:DAYLIGHT
TZOFFSETFROM:-0500
TZOFFSETTO:-0400
TZNAME:EDT
DTSTART:20270314T070000
END:DAYLIGHT
BEGIN:STANDARD
TZOFFSETFROM:-0400
TZOFFSETTO:-0500
TZNAME:EST
DTSTART:20271107T060000
END:STANDARD
END:VTIMEZONE
BEGIN:VEVENT
DTSTART;TZID=America/New_York:20260207T130000
DTEND;TZID=America/New_York:20260207T140000
DTSTAMP:20260424T180138
CREATED:20260122T190941Z
LAST-MODIFIED:20260122T190951Z
UID:2562-1770469200-1770472800@acoos.org
SUMMARY:KHACHKAR MASTER CLASS
DESCRIPTION:KHACHKAR MASTER CLASS \n\n\n\n\n\n\n\nSaturday\, February 7\, 1:00pmChurch Hall \n\n\n\nNarine Poladian is Armenia’s first female khachkar carving master. We invited her to Our Saviour to teach a special master class on making Armenian Khachkars\, cross stones. With her professional guidance you will learn how to carve Armenian motives on a small volcanic tufa stone that was shipped from Haystan. You may take the stone home with you. \n\n\n\nCost $50Register at armenian.church@acoos.org
URL:https://acoos.org/event/khachkar-master-class/
ATTACH;FMTTYPE=image/png:https://acoos.org/wp-content/uploads/2026/01/Black-White-Simple-Sculpture-Class-Flyer.png
END:VEVENT
BEGIN:VEVENT
DTSTART;TZID=America/New_York:20260129T180000
DTEND;TZID=America/New_York:20260129T200000
DTSTAMP:20260424T180138
CREATED:20260108T163907Z
LAST-MODIFIED:20260113T223546Z
UID:2544-1769709600-1769716800@acoos.org
SUMMARY:MANTI DINNER
DESCRIPTION:MANTI DINNER \n\n\n\n\nPAY & RSVP\n\n\n\n\n\n\n\n\nThursday\, January 29 6PM\, at Church Hall \n\n\n\nDINNER MENUMezze\, Salad & Homemade Manti$25 per personRSVP & Pay in advance(508) 756-2931 armenian.church@acoos.orgwww.acoos.org \n\n\n\n\nPAY & RSVP\n\n\n\n\nSPECIAL GUEST AT THE MANTI DINNERWe are excited to welcome Dr. Taline Andonian as a special guest at our Manti Dinner.  Dr. Andonian is a psychologist and the author of a recently published children’s book that centers Armenian culture\, intergenerational connection\, and the tradition of making manti with elders.The book is called Let’s Make Manti!
URL:https://acoos.org/event/manti-dinner/
ATTACH;FMTTYPE=image/png:https://acoos.org/wp-content/uploads/2026/01/Black-Cream-Modern-Lunch-Instagram-Post-.png
END:VEVENT
BEGIN:VEVENT
DTSTART;TZID=America/New_York:20260118T090000
DTEND;TZID=America/New_York:20260118T130000
DTSTAMP:20260424T180138
CREATED:20260103T151552Z
LAST-MODIFIED:20260103T151600Z
UID:2541-1768726800-1768741200@acoos.org
SUMMARY:135th Anniversary of theConsecration of Our Church
DESCRIPTION:Official Announcement \n\n\n\n135th Anniversary of theConsecration of Our Church\n\n\n\nAnniversary Kickoff Event \n\n\n\nNext year marks a truly special milestone in the life of our community as we celebrate the 135th Anniversary of the Consecration of our Church. \n\n\n\nFor 135 years\, the Armenian Church of Our Saviour—the First Armenian Church in America—has faithfully served as a beacon of faith\, hope\, and light\, spreading Christ’s message throughout our Diocese and beyond. \n\n\n\nTo kick off our 135th Anniversary celebrations\, we invite you to join us for a special commemorative walk on Sunday\, January 18\, marking the anniversary of our church’s consecration and honoring our historic journey from the original church to our present home. \n\n\n\nLet us come together in gratitude\, prayer\, and fellowship as we begin this sacred year of remembrance and celebration.
URL:https://acoos.org/event/135th-anniversary-of-theconsecration-of-our-church/
ATTACH;FMTTYPE=image/png:https://acoos.org/wp-content/uploads/2026/01/Anniversary-walk-.png
END:VEVENT
BEGIN:VEVENT
DTSTART;TZID=America/New_York:20260111T100000
DTEND;TZID=America/New_York:20260111T113000
DTSTAMP:20260424T180138
CREATED:20260103T144349Z
LAST-MODIFIED:20260103T144355Z
UID:2536-1768125600-1768131000@acoos.org
SUMMARY:BLESSING OF WATER
DESCRIPTION:BLESSING OF WATER \n\n\n\n\n\n\n\nSunday\, January 11Soorp Badarak 10:00 a.m. \n\n\n\nBlessing of the Water ServiceWe are pleased to share with you thatGregg and Matthew Migridichianwill serve as Godfathers for the Blessing of Water service this year
URL:https://acoos.org/event/blessing-of-water/
ATTACH;FMTTYPE=image/jpeg:https://acoos.org/wp-content/uploads/2023/12/BlessingOfWaterFlyerForParishes.jpg
END:VEVENT
BEGIN:VEVENT
DTSTART;TZID=America/New_York:20260105T170000
DTEND;TZID=America/New_York:20260105T193000
DTSTAMP:20260424T180138
CREATED:20251223T194507Z
LAST-MODIFIED:20251223T194517Z
UID:2525-1767632400-1767641400@acoos.org
SUMMARY:CHRISTMAS EVE CANDLELIGHT SERVICE & DINNER 
DESCRIPTION:CHRISTMAS EVE CANDLELIGHTSERVICE & DINNER \n\n\n\n\n\nMonday\, January 5\, 5:00 PM \n\n\n\nSoorp BadarakFollowed by Traditional Christmas Fish Dinner \n\n\n\nOn Monday\, January 5\, Christmas Eve Candlelight Services will begin at 5:00 p.m. Please join the Candlelight Service. In Armenian\, this service is referred to as “Jrakalouyts.” For this service\, you are welcome to bring a lantern or candle to take home “the Light of Christ” with you. The “lighting of candles” (Jurakalouyts) marks the beginning of a joyous Christmas Eve and the spreading of the light of Christ. By bringing your lamps you will take home the flame of Christ.
URL:https://acoos.org/event/christmas-eve-candlelight-service-dinner/
ATTACH;FMTTYPE=image/png:https://acoos.org/wp-content/uploads/2025/12/Copy-of-CHRISTMAS-EVE-CANDLELIGHT-SERVICE.png
END:VEVENT
BEGIN:VEVENT
DTSTART;TZID=America/New_York:20260105T060000
DTEND;TZID=America/New_York:20260105T060000
DTSTAMP:20260424T180138
CREATED:20251223T194855Z
LAST-MODIFIED:20251223T194904Z
UID:2528-1767592800-1767592800@acoos.org
SUMMARY:CHRISTMAS PAGEANT
DESCRIPTION:CHRISTMAS PAGEANT \n\n\n\nJanuary 5th\, 5:00 P.M.Christmas Eve \n\n\n\nFollowing the Service \n\n\n\nJoin us on Christmas Eve\, January 5th for a Christmas Pageant by our Sunday School students.
URL:https://acoos.org/event/christmas-pageant/
ATTACH;FMTTYPE=image/png:https://acoos.org/wp-content/uploads/2025/12/Christmas-Pageant-Web-Banner-2.png
END:VEVENT
BEGIN:VEVENT
DTSTART;TZID=America/New_York:20251228T100000
DTEND;TZID=America/New_York:20251228T130000
DTSTAMP:20260424T180138
CREATED:20251210T194652Z
LAST-MODIFIED:20251211T151449Z
UID:2500-1766916000-1766926800@acoos.org
SUMMARY:BLESSING OF POMEGRANATES
DESCRIPTION:BLESSING OF POMEGRANATES \n\n\n\nSunday\, December 28\, 10:00 AM \n\n\n\nYou are welcome to bring pomegranates with you to be blessed. \n\n\n\nAs a national symbol\, the pomegranate has been widely used in Armenian architecture\, arts and manuscripts. In Christianity\, the pomegranate symbolizes the diversity of God’s grace\, the Church. Just as the seeds of the pomegranate are separated by thin membranes yet held tightly together\, in the same way\, the Christian Church holds all Christians around the world together in Christ’s love; though they are separate\, they are not divided.
URL:https://acoos.org/event/blessing-of-pomegranates/
ATTACH;FMTTYPE=image/png:https://acoos.org/wp-content/uploads/2025/12/Pomegranate-Quote-Facebook-Post.png
END:VEVENT
BEGIN:VEVENT
DTSTART;TZID=America/New_York:20251215T180000
DTEND;TZID=America/New_York:20251215T210000
DTSTAMP:20260424T180138
CREATED:20251208T153453Z
LAST-MODIFIED:20251208T153500Z
UID:2492-1765821600-1765832400@acoos.org
SUMMARY:CHRISTMAS DINNER & FELLOWSHIP
DESCRIPTION:CHRISTMAS DINNER & FELLOWSHIP \n\n\n\n\n\n\n\nMonday\, December 15\, 6:00 PMArmenian Church of our Saviour\, Cultural Center \n\n\n\nHosted byACOOS MEN’S CLUBKNIGHTS & DAUGHTERS OF VARTAN \n\n\n\nJoin Armenian Church of Our Saviour Men’s Club & Knights & Daughters of Vartan Christmas Dinner and Fellowship. \n\n\n\nAll are welcome.Meal: super mezza\, including kheyma\, basterma\, soujoukh\, tourshi\, MAIN MEAL; losh kebab OR chicken with pilaf\, salad and vegetables. BEER and WINE for nominal charge.$25.00/pp ALL inclusive\, excluding liquorDaughters of Santoukht Otyag will also be selling raffle tickets for some AWESOME holiday gifts and surprises.You are welcome to bring games and cards to play. We will be playing Armenian dance music in the background….for your dancing pleasure \n\n\n\nRSVP by December 13to Chuck Sharigian – 774-261-0108 or chazz2404@yahoo.comcost: $25
URL:https://acoos.org/event/christmas-dinner-fellowship/
ATTACH;FMTTYPE=image/png:https://acoos.org/wp-content/uploads/2025/12/Green-Natural-Christmas-Party-Flyer-2.png
END:VEVENT
BEGIN:VEVENT
DTSTART;TZID=America/New_York:20251214T120000
DTEND;TZID=America/New_York:20251214T130000
DTSTAMP:20260424T180138
CREATED:20251208T152120Z
LAST-MODIFIED:20251208T152126Z
UID:2487-1765713600-1765717200@acoos.org
SUMMARY:Sunday School Christmas Party
DESCRIPTION:
URL:https://acoos.org/event/sunday-school-christmas-party/
ATTACH;FMTTYPE=image/jpeg:https://acoos.org/wp-content/uploads/2025/12/594069486_1368617035306935_5021771392665023834_n.jpg
END:VEVENT
BEGIN:VEVENT
DTSTART;TZID=America/New_York:20251207T120000
DTEND;TZID=America/New_York:20251207T140000
DTSTAMP:20260424T180138
CREATED:20251118T144642Z
LAST-MODIFIED:20251118T144648Z
UID:2476-1765108800-1765116000@acoos.org
SUMMARY:ARMENIAN CHRISTMAS MARKET
DESCRIPTION:
URL:https://acoos.org/event/armenian-christmas-market/
ATTACH;FMTTYPE=image/png:https://acoos.org/wp-content/uploads/2025/11/Green-Red-Festive-Event-Craft-Markets-Christmas-Flyer-Portrait.png
END:VEVENT
BEGIN:VEVENT
DTSTART;TZID=America/New_York:20251204T183000
DTEND;TZID=America/New_York:20251204T200000
DTSTAMP:20260424T180138
CREATED:20251029T174724Z
LAST-MODIFIED:20251110T194310Z
UID:2452-1764873000-1764878400@acoos.org
SUMMARY:MOVIE SCREENING
DESCRIPTION:MOVIE SCREENING \n\n\n\nTHURSDAY\, DECEMBER 46:30PM AT CHURCH HALL \n\n\n\nAn American father travels overseas to recover the body of his estranged son\, who died while trekking Spain’s “Camino de Santiago.” In an effort to better understand his son\, the grieving father embarks on the pilgrimage himself.Starring Martin Sheen\, Emilio Estevez\, Deborah Kara Unger\, Yorick van Wageningen\, and James Nesbitt.POP CORN WILL BE PROVIDED
URL:https://acoos.org/event/movie-screening/
ATTACH;FMTTYPE=image/jpeg:https://acoos.org/wp-content/uploads/2025/10/the-way-2010.jpg
END:VEVENT
BEGIN:VEVENT
DTSTART;TZID=America/New_York:20251130T100000
DTEND;TZID=America/New_York:20251130T140000
DTSTAMP:20260424T180138
CREATED:20251118T144414Z
LAST-MODIFIED:20251118T144423Z
UID:2472-1764496800-1764511200@acoos.org
SUMMARY:SCHOLARSHIP AWARDS SUNDAY
DESCRIPTION:SCHOLARSHIP AWARDS SUNDAY \n\n\n\nSUNDAY\, NOVEMBER 30 \n\n\n\nOn Sunday\, November 30th we will host our Annual Scholarship Sunday!We are excited to award 9 of our beloved students this year. These scholarships have been made possible by the generous benefactors of the following Memorial Endowment Funds.Come join us with your families for worship followed by a special fellowship afterwards.
URL:https://acoos.org/event/scholarship-awards-sunday/
ATTACH;FMTTYPE=image/png:https://acoos.org/wp-content/uploads/2025/11/white-Scholarship-program-Flyer-2.png
END:VEVENT
BEGIN:VEVENT
DTSTART;TZID=America/New_York:20251117T180000
DTEND;TZID=America/New_York:20251117T200000
DTSTAMP:20260424T180138
CREATED:20251113T141330Z
LAST-MODIFIED:20251113T141336Z
UID:2468-1763402400-1763409600@acoos.org
SUMMARY:KHEYMA DINNER
DESCRIPTION:
URL:https://acoos.org/event/kheyma-dinner/
ATTACH;FMTTYPE=image/png:https://acoos.org/wp-content/uploads/2025/11/Yellow-Blue-Minimalist-Hotel-Promotion-Flyer-2.png
END:VEVENT
BEGIN:VEVENT
DTSTART;TZID=America/New_York:20251110T180000
DTEND;TZID=America/New_York:20251110T190000
DTSTAMP:20260424T180138
CREATED:20251101T205541Z
LAST-MODIFIED:20251101T205552Z
UID:2457-1762797600-1762801200@acoos.org
SUMMARY:MEN'S TAVLOO SOCIAL
DESCRIPTION:
URL:https://acoos.org/event/mens-tavloo-social/
ATTACH;FMTTYPE=image/png:https://acoos.org/wp-content/uploads/2025/11/Beige-and-Brown-Illustrated-Family-Game-Night-Poster.png
END:VEVENT
BEGIN:VEVENT
DTSTART;TZID=America/New_York:20251101T173000
DTEND;TZID=America/New_York:20251101T210000
DTSTAMP:20260424T180138
CREATED:20250912T184655Z
LAST-MODIFIED:20251013T014214Z
UID:2368-1762018200-1762030800@acoos.org
SUMMARY:ARMENIAN EVENING WITH ARA DINKJIAN
DESCRIPTION:PURCHASE TICKETS\n\n\n\n\n\n\n\n\nARMENIAN EVENING WITH\n\n\n\nARA DINKJIAN\n\n\n\nNovember 1\, 5:30 pmCultural Center \n\n\n\nCelebration of Armenian culture with music\, food & wine \n\n\n\nSolo Oud Recitalkebab dinnerArmenian wine available for sale \n\n\n\nTickets – $60 per personChildren under 12 free$25 studentsPlease register and purchase your tickets online belowOr you may mail a check to the Church office
URL:https://acoos.org/event/armenian-evening-with-ara-dinkjian/
ATTACH;FMTTYPE=image/png:https://acoos.org/wp-content/uploads/2025/09/Ara-Dinkjian-flyer-.png
END:VEVENT
BEGIN:VEVENT
DTSTART;TZID=America/New_York:20251029T160000
DTEND;TZID=America/New_York:20251029T180000
DTSTAMP:20260424T180138
CREATED:20251013T132919Z
LAST-MODIFIED:20251013T132926Z
UID:2435-1761753600-1761760800@acoos.org
SUMMARY:SOORP BADARAK
DESCRIPTION:
URL:https://acoos.org/event/soorp-badarak/
ATTACH;FMTTYPE=image/png:https://acoos.org/wp-content/uploads/2025/10/Brown-And-White-Scrapbook-Spiritual-Night-Prayer-Meeting-Flyer.png
END:VEVENT
BEGIN:VEVENT
DTSTART;TZID=America/New_York:20251025T130000
DTEND;TZID=America/New_York:20251025T160000
DTSTAMP:20260424T180138
CREATED:20251008T014103Z
LAST-MODIFIED:20251008T014310Z
UID:2426-1761397200-1761408000@acoos.org
SUMMARY:ACYOA KICK-OFF
DESCRIPTION:
URL:https://acoos.org/event/acyoa-kick-off/
ATTACH;FMTTYPE=image/png:https://acoos.org/wp-content/uploads/2025/10/ACYOA-Kickoff-Flyer-page-0.png
END:VEVENT
END:VCALENDAR